{"text_format":"1","workbook":"xlsx","n_sheets":10,"sheets":["ВПА_Застава_СТ","ППА","Фото","Журнал торгів","queries","deal","colls","guar","legalwork","deal_doc"],"not_rendered":{"charts":0,"images":2,"macros":1,"external_links":0,"defined_names":5,"comments":0,"pivot_tables":0},"unopened":[],"bounds":{"document_bytes":16777216,"sheet_cells":100000,"rows_first":2000,"rows_last":500,"rows_between":2000,"halvings":0,"cell_chars":16384,"cell_head_chars":4096},"cells_cut":0,"cells_raw":0,"read":"whole","date_system":"1900"}

{"sheet":"ВПА_Застава_СТ","index":0,"n_rows":124,"n_cols":2,"rows_kept":124,"cut":false,"hidden":true,"merged":[[111,0,117,1],[42,0,42,1],[47,0,47,1],[48,0,54,1],[63,0,63,1],[68,0,68,1],[69,0,75,1],[84,0,84,1],[89,0,89,1],[90,0,96,1],[105,0,105,1],[110,0,110,1],[27,0,33,1],[0,0,0,1],[5,0,5,1],[6,0,12,1],[21,0,21,1],[26,0,26,1]]}
["7. Інформація про заставу***"]
["Наявність застави (так / ні)",{"$f":"deal!$AA$2","v":"так"}]
["Діє мораторій на стягнення майна (так / ні)",{"$f":"colls!$C$2","v":"Ні"}]
["Номер договору застави",{"$f":"colls!$D$2","v":1772024}]
["Тип застави*",{"$f":"colls!$E$2","v":"Нерухоме майно, що належить до житлового фонду"}]
["Детальний опис застави*"]
[{"$f":"colls!$F$2","v":"Житловий будинок; МИКОЛАЇВСЬКА ОБЛ., МИКОЛАЇВ, КОРАБЕЛЬНИЙ, вул. Пшеницина, буд. 5/1, (93,3/) + Земельна ділянка 0,0555 га вул. Пшеницина, буд. 5/1, "}]
[]
[]
[]
[]
[]
[]
["Застава реалізована (так / ні)"]
["Заставу прийнято на баланс банку (так / ні)"]
["Вартість застави на момент видачі кредиту, грн"]
["Дата останньої перевірки предмета застави*",{"$f":"IF(colls!$G$2=\"\",\"\",colls!$G$2)","v":"2015-06-02"}]
["Дата останньої оцінки",{"$f":"IF(colls!$H$2=\"\",\"\",colls!$H$2)","v":"2016-04-01"}]
["Оцінка вартості застави, грн",{"$f":"colls!$I$2","v":905078}]
[]
[]
["7. Інформація про заставу***"]
["Наявність застави (так / ні)",{"$f":"deal!$AA$2","v":"так"}]
["Діє мораторій на стягнення майна (так / ні)",{"$f":"IF(colls!$C$3=\"\",\"\",colls!$C$3)","v":""}]
["Номер договору застави",{"$f":"IF(colls!$D$3=\"\",\"\",colls!$D$3)","v":""}]
["Тип застави*",{"$f":"IF(colls!$E$3=\"\",\"\",colls!$E$3)","v":""}]
["Детальний опис застави*"]
[{"$f":"IF(colls!$F$3=\"\",\"\",colls!$F$3)","v":""}]
[]
[]
[]
[]
[]
[]
["Застава реалізована (так / ні)"]
["Заставу прийнято на баланс банку (так / ні)"]
["Вартість застави на момент видачі кредиту, грн"]
["Дата останньої перевірки предмета застави*",{"$f":"IF(colls!$G$3=\"\",\"\",colls!$G$3)","v":""}]
["Дата останньої оцінки",{"$f":"IF(colls!$H$3=\"\",\"\",colls!$H$3)","v":""}]
["Оцінка вартості застави, грн",{"$f":"IF(colls!$I$3=\"\",\"\",colls!$I$3)","v":""}]
[]
[]
["7. Інформація про заставу***"]
["Наявність застави (так / ні)",{"$f":"deal!$AA$2","v":"так"}]
["Діє мораторій на стягнення майна (так / ні)",{"$f":"IF(colls!$C$4=\"\",\"\",colls!$C$4)","v":""}]
["Номер договору застави",{"$f":"IF(colls!$D$4=\"\",\"\",colls!$D$4)","v":""}]
["Тип застави*",{"$f":"IF(colls!$E$4=\"\",\"\",colls!$E$4)","v":""}]
["Детальний опис застави*"]
[{"$f":"IF(colls!$F$4=\"\",\"\",colls!$F$4)","v":""}]
[]
[]
[]
[]
[]
[]
["Застава реалізована (так / ні)"]
["Заставу прийнято на баланс банку (так / ні)"]
["Вартість застави на момент видачі кредиту, грн"]
["Дата останньої перевірки предмета застави*",{"$f":"IF(colls!$G$4=\"\",\"\",colls!$G$4)","v":""}]
["Дата останньої оцінки",{"$f":"IF(colls!$H$4=\"\",\"\",colls!$H$4)","v":""}]
["Оцінка вартості застави, грн",{"$f":"IF(colls!$I$4=\"\",\"\",colls!$I$4)","v":""}]
[]
[]
["7. Інформація про заставу***"]
["Наявність застави (так / ні)",{"$f":"deal!$AA$2","v":"так"}]
["Діє мораторій на стягнення майна (так / ні)",{"$f":"IF(colls!$C$5=\"\",\"\",colls!$C$5)","v":""}]
["Номер договору застави",{"$f":"IF(colls!$D$5=\"\",\"\",colls!$D$5)","v":""}]
["Тип застави*",{"$f":"IF(colls!$E$5=\"\",\"\",colls!$E$5)","v":""}]
["Детальний опис застави*"]
[{"$f":"IF(colls!$F$5=\"\",\"\",colls!$F$5)","v":""}]
[]
[]
[]
[]
[]
[]
["Застава реалізована (так / ні)"]
["Заставу прийнято на баланс банку (так / ні)"]
["Вартість застави на момент видачі кредиту, грн"]
["Дата останньої перевірки предмета застави*",{"$f":"IF(colls!$G$5=\"\",\"\",colls!$G$5)","v":""}]
["Дата останньої оцінки",{"$f":"IF(colls!$H$5=\"\",\"\",colls!$H$5)","v":""}]
["Оцінка вартості застави, грн",{"$f":"IF(colls!$I$5=\"\",\"\",colls!$I$5)","v":""}]
[]
[]
["7. Інформація про заставу***"]
["Наявність застави (так / ні)",{"$f":"deal!$AA$2","v":"так"}]
["Діє мораторій на стягнення майна (так / ні)",{"$f":"IF(colls!$C$6=\"\",\"\",colls!$C$6)","v":""}]
["Номер договору застави",{"$f":"IF(colls!$D$6=\"\",\"\",colls!$D$6)","v":""}]
["Тип застави*",{"$f":"IF(colls!$E$6=\"\",\"\",colls!$E$6)","v":""}]
["Детальний опис застави*"]
[{"$f":"IF(colls!$F$6=\"\",\"\",colls!$F$6)","v":""}]
[]
[]
[]
[]
[]
[]
["Застава реалізована (так / ні)"]
["Заставу прийнято на баланс банку (так / ні)"]
["Вартість застави на момент видачі кредиту, грн"]
["Дата останньої перевірки предмета застави*",{"$f":"IF(colls!$G$6=\"\",\"\",colls!$G$6)","v":""}]
["Дата останньої оцінки",{"$f":"IF(colls!$H$6=\"\",\"\",colls!$H$6)","v":""}]
["Оцінка вартості застави, грн",{"$f":"IF(colls!$I$6=\"\",\"\",colls!$I$6)","v":""}]
[]
[]
["7. Інформація про заставу***"]
["Наявність застави (так / ні)",{"$f":"deal!$AA$2","v":"так"}]
["Діє мораторій на стягнення майна (так / ні)",{"$f":"IF(colls!$C$7=\"\",\"\",colls!$C$7)","v":""}]
["Номер договору застави",{"$f":"IF(colls!$D$7=\"\",\"\",colls!$D$7)","v":""}]
["Тип застави*",{"$f":"IF(colls!$E$7=\"\",\"\",colls!$E$7)","v":""}]
["Детальний опис застави*"]
[{"$f":"IF(colls!$F$7=\"\",\"\",colls!$F$7)","v":""}]
[]
[]
[]
[]
[]
[]
["Застава реалізована (так / ні)"]
["Заставу прийнято на баланс банку (так / ні)"]
["Вартість застави на момент видачі кредиту, грн"]
["Дата останньої перевірки предмета застави*",{"$f":"IF(colls!$G$7=\"\",\"\",colls!$G$7)","v":""}]
["Дата останньої оцінки",{"$f":"IF(colls!$H$7=\"\",\"\",colls!$H$7)","v":""}]
["Оцінка вартості застави, грн",{"$f":"IF(colls!$I$7=\"\",\"\",colls!$I$7)","v":""}]

{"sheet":"ППА","index":1,"n_rows":27,"n_cols":8,"rows_kept":27,"cut":false,"hidden":false,"merged":[[0,0,0,7],[4,0,4,1],[4,6,4,7],[6,6,6,7],[7,6,21,7],[19,0,19,1],[4,3,4,4],[10,3,10,4],[6,4,7,4],[6,3,7,3],[11,3,15,4],[22,6,22,7],[23,6,23,7],[19,3,19,4],[25,3,26,3],[25,4,26,4],[23,3,23,4]]}
["Публічний паспорт активу (права вимоги фізичних осіб – індивідуальні позичальники)"]
[]
["Дата формування","2017-03-01"]
[]
["1. Інформація про кредит ",null,null,"3. Інформація про заставу",null,null,"6. Претензійно-позовна робота та примусове стягнення"]
["Назва банку","ПУАТ «ФІДОБАНК»",null,"Наявність застави (так / ні)","Так",null,"Поточна стадія претензійно-позовної роботи","Позов до суду не подано"]
["МФО банку","300175",null,"Діє закон про мораторій на стягнення майна (так / ні)","Ні",null,"Опис претензійно-позовної роботи"]
["Номер кредитного договору","014/2292/2/20805",null,null,null,null,"Детальну інформацію буде надано після підписання договору про нерозголошення конфіденційної інформації"]
["Дата отримання кредиту","2008-07-30",null,"Номер договору застави","б/н"]
["Дата погашення кредиту","2022-07-29",null,"Тип застави","земельна ділянка; житловий будинок"]
["Валюта кредиту",980,null,"Опис застави"]
["Сума видачі (у валюті кредиту)",36000,null,"Земельна ділянка 555 кв.м.  на якій розташован житловий будинок з прилеглими до нього господарськими будівлями за адресою: м. Миколаїв, вул. Пшеницина"]
["Ставка відсотків",20]
["Ставка комісій",""]
["Тип кредитного продукту","Заставний"]
["Цільове призначення","Придбання житлового будинку та земельної ділянки"]
["Регіон видачі (область)","Миколаївська область",null,"Застава реалізована (так / ні)","ні"]
["Зона АТО або Крим","Інше",null,"Вартість застави на момент видачі кредиту, грн",307778]
[]
["2. Залишок заборгованості на дату формування",null,null,"4. Інформація про поручителя"]
["Загальний залишок заборгованості (без штрафів та пені), грн ",238944.48,null,"Наявність поручителя (так / ні)","Так"]
["Залишок по тілу кредиту, грн",236118.94,null,"Вид поруки (майнова / фінансова)","фінансова"]
["Залишок по процентам, грн",2825.54]
["Залишок по комісіям, грн",0,null,"5. Додаткова інформація",null,null,"7. Оцінка вартості кредиту"]
["Залишок по пеням і штрафам, грн",44.2,null,"Смерть боржника (так / ні)","ні",null,"Назва компанії оцінщика","ТОВ «Верітас Проперті Менеджмент»"]
["Залишок заборгованості у валюті кредиту (без штрафів та пені)",238944.48,null,"Інша інформація та примітки","1. 05.05.2016 р. проведено реструктуризацію шляхом зміни валюти кредитування з доларів США на гривню. \n2. Відсутній оригінал додаткової угоди до договору іпотеки від 05.05.2016р. (зміна валюти кредитування з доларів США на гривню), в наявності оригінал Договору іпотеки від 30.07.2008р.                                                                                             ",null,"Дата оцінки вартості кредиту","2016-11-01"]
["Дата останнього платежу","2017-01-30",null,null,null,null,"Оціночна вартість кредиту, грн",108467.57]

{"sheet":"Фото","index":2,"n_rows":0,"n_cols":0,"rows_kept":0,"cut":false,"hidden":false,"merged":[]}

{"sheet":"Журнал торгів","index":3,"n_rows":2,"n_cols":6,"rows_kept":2,"cut":false,"hidden":false,"merged":[[0,0,0,5]]}
["Журнал торгів"]
["№","Дата проведення","Торгуюча організація","Початкова вартість, грн","Ціна продажу, грн","Коментар"]

{"sheet":"queries","index":4,"n_rows":6,"n_cols":2,"rows_kept":6,"cut":false,"hidden":true,"merged":[]}
["FIDO_HD.deals","select * from risk.risk_viw_deal_passport t where t.deal_b2_id=$deal_id$"]
["FIDO_HD.colls","select * from risk.risk_viw_coll_passport t where t.DEAL_B2_ID=$deal_id$"]
["FIDO_HD.guar","select * from risk.risk_viw_guar_passport t where t.DEAL_B2_ID=$deal_id$"]
["FIDO_HD.legalwork","select * from risk.risk_viw_passport_legalwork_ag t where t.DEAL_B2_ID=$deal_id$"]
["FIDO_HD.log","insert into risk.risk_passport_request_log(deal_b2_id, user_login) values($deal_id$,'$user_login$')"]
["FIDO_HD.deal_docs","select * from risk.risk_viw_passport_deal_doc t where t.DEAL_B2_ID=$deal_id$"]

{"sheet":"deal","index":5,"n_rows":2,"n_cols":42,"rows_kept":2,"cut":false,"hidden":true,"merged":[]}
["DEAL_B2_ID","DEAL_ID","ARCDATE","1","2","3","4","5","6","7","8","10","11","12","13","15","16","17","18","19","20","33","34","35","36","37","41","52","EST_COMPANY_NAME","EST_AMOUNT","EST_DATE","REST_AMOUNT_EST","REST_AMOUNT_LIQ","LIQ_AMOUNT","LIQ_DATE","LAST_PAYM_DATE","LAST_PAYM_AMOUNT","CURR_YEAR_PAYM_AMOUNT","PREV_YEAR_PAYM_AMOUNT","PAYM_AMOUNT_TOTAL","FEE_RATE","NBU_COLL"]
[3533177,9703451,"2017-02-01","ПУАТ «ФІДОБАНК»","300175","014/2292/2/20805","2008-07-30","2022-07-29",840,36000,20,"Інше","Інше","Миколаївська область","Інше",238944.48,236118.94,2825.54,0,44.2,238944.48,0,"Калінічева Любов Володимирівна","2270008100","54050,Миколаївська обл.,-,м. Миколаїв,вул. Металургів,буд. 8,кв. 30","54050,Миколаївська обл.,-,м. Миколаїв,вул. Металургів,буд. 8,кв. 30","так","так","ТОВ «Верітас Проперті Менеджмент»",108467.57,"2016-11-01",252375.9,252375.9,108467.57,"2016-11-01","2017-01-30",5506,5506,111368.62,328884.96000000002,0,"Ні"]

{"sheet":"colls","index":6,"n_rows":2,"n_cols":14,"rows_kept":2,"cut":false,"hidden":true,"merged":[]}
["DEAL_ID","DEAL_B2_ID","42","43","44","45","49","50","51","COLL_DEAL_ID","COLL_DEAL_B2_ID","ARCDATE","DEAL_NO","SIMPLE_CODE"]
[9703451,3533177,"Ні",1772024,"Нерухоме майно, що належить до житлового фонду","Житловий будинок; МИКОЛАЇВСЬКА ОБЛ., МИКОЛАЇВ, КОРАБЕЛЬНИЙ, вул. Пшеницина, буд. 5/1, (93,3/) + Земельна ділянка 0,0555 га вул. Пшеницина, буд. 5/1, ","2015-06-02","2016-04-01",905078,5161791,1772024,"2017-02-01","014/2292/2/20805","014/2292/2/20805_1772024"]

{"sheet":"guar","index":7,"n_rows":2,"n_cols":15,"rows_kept":2,"cut":false,"hidden":true,"merged":[]}
["DEAL_ID","DEAL_B2_ID","COLL_DEAL_ID","COLL_DEAL_B2_ID","43","45","53","54","55","56","57","58","59","ARCDATE","SIMPLE_CODE"]
[9703451,3533177,9709430,3534901,3534901,"Порука Калінічев Олександр Вікторович (2332701592)","Прості гарантії інших клієнтів","Калінічер Олександр Вікторович","2332701592","Миколаївська, , Миколаїв, пр. Октябрьский, 305, 28",", , , , , ",null,null,"2017-02-01","014/2292/2/20805_3534901"]

{"sheet":"legalwork","index":8,"n_rows":2,"n_cols":15,"rows_kept":2,"cut":false,"hidden":true,"merged":[]}
["ARCDATE","DEAL_ID","DEAL_B2_ID","DEAL_NO","COLL_DEAL_ID","COLL_DEAL_B2_ID","LIMITATION_PERIOD_DATE","CUR_STAGE","STAGE_DESC","LEGAL_OPINION","PRE_TRIAL_AGR_FLAG","PRE_TRIAL_AGR_DESC","INTERNAL_DRS_WORK","EXTERNAL_DRS_WORK","SIMPLE_CODE"]
["2017-02-01 00:00:00 | 2017-02-01 00:00:00","9703451 | 9703451",3533177,"014/2292/2/20805 | 014/2292/2/20805","5161791 | 9709430","1772024 | 3534901","1772024: Н/Д | 3534901: Н/Д","1772024: Н/Д | 3534901: Н/Д","1772024: Н/Д | 3534901: Н/Д","1772024: Н/Д | 3534901: Н/Д","1772024: Н/Д | 3534901: Н/Д","1772024: Н/Д | 3534901: Н/Д","1772024: Н/Д | 3534901: Н/Д","1772024: Н/Д | 3534901: Н/Д"]

{"sheet":"deal_doc","index":9,"n_rows":3,"n_cols":8,"rows_kept":3,"cut":false,"hidden":true,"merged":[]}
["DEAL_B2_ID","DEAL_ID","CREDIT_CONTRACT","COLL_CONTRACT","GUARANTEE_CONTRACT","SPOUSE_AGR","CREDIT_STATEMENT","BORROWERS_PERMIT"]
[3533177,9703451,"так","так","ні"]
[3533177,9703451,"так","так","ні"]